BEGIN:VCALENDAR
VERSION:2.0
PRODID:-//Memory Lane Haninge - ECPv6.15.20//NONSGML v1.0//EN
CALSCALE:GREGORIAN
METHOD:PUBLISH
X-WR-CALNAME:Memory Lane Haninge
X-ORIGINAL-URL:https://memorylanehaninge.se
X-WR-CALDESC:Händelser för Memory Lane Haninge
REFRESH-INTERVAL;VALUE=DURATION:PT1H
X-Robots-Tag:noindex
X-PUBLISHED-TTL:PT1H
BEGIN:VTIMEZONE
TZID:Europe/Stockholm
BEGIN:DAYLIGHT
TZOFFSETFROM:+0100
TZOFFSETTO:+0200
TZNAME:CEST
DTSTART:20240331T010000
END:DAYLIGHT
BEGIN:STANDARD
TZOFFSETFROM:+0200
TZOFFSETTO:+0100
TZNAME:CET
DTSTART:20241027T010000
END:STANDARD
BEGIN:DAYLIGHT
TZOFFSETFROM:+0100
TZOFFSETTO:+0200
TZNAME:CEST
DTSTART:20250330T010000
END:DAYLIGHT
BEGIN:STANDARD
TZOFFSETFROM:+0200
TZOFFSETTO:+0100
TZNAME:CET
DTSTART:20251026T010000
END:STANDARD
BEGIN:DAYLIGHT
TZOFFSETFROM:+0100
TZOFFSETTO:+0200
TZNAME:CEST
DTSTART:20260329T010000
END:DAYLIGHT
BEGIN:STANDARD
TZOFFSETFROM:+0200
TZOFFSETTO:+0100
TZNAME:CET
DTSTART:20261025T010000
END:STANDARD
END:VTIMEZONE
BEGIN:VEVENT
DTSTART;TZID=Europe/Stockholm:20251114T180000
DTEND;TZID=Europe/Stockholm:20251114T200000
DTSTAMP:20260420T121357
CREATED:20251114T143135Z
LAST-MODIFIED:20251114T143135Z
UID:308-1763143200-1763150400@memorylanehaninge.se
SUMMARY:Finland - Malta
DESCRIPTION:Finland – Malta
URL:https://memorylanehaninge.se/event/finland-malta/
END:VEVENT
BEGIN:VEVENT
DTSTART;TZID=Europe/Stockholm:20251114T204500
DTEND;TZID=Europe/Stockholm:20251114T224500
DTSTAMP:20260420T121357
CREATED:20251114T143238Z
LAST-MODIFIED:20251114T143238Z
UID:310-1763153100-1763160300@memorylanehaninge.se
SUMMARY:Polen - Nederländerna
DESCRIPTION:Polen – Nederländerna
URL:https://memorylanehaninge.se/event/polen-nederlanderna/
END:VEVENT
BEGIN:VEVENT
DTSTART;TZID=Europe/Stockholm:20251114T204500
DTEND;TZID=Europe/Stockholm:20251114T230000
DTSTAMP:20260420T121357
CREATED:20251114T143343Z
LAST-MODIFIED:20251114T143343Z
UID:312-1763153100-1763161200@memorylanehaninge.se
SUMMARY:Kroatien - Färöarna
DESCRIPTION:Kroatien – Färöarna
URL:https://memorylanehaninge.se/event/kroatien-faroarna/
END:VEVENT
END:VCALENDAR